BEGIN:VCALENDAR
VERSION:2.0
CALSCALE:GREGORIAN
PRODID:-//MyApp//Calendar 1.0//EN
BEGIN:VEVENT
METHOD:PUBLISH
UID:50896@regionalniportaly.cz
DTSTAMP:20260422T143100Z
DTSTART;VALUE=DATE:20251105
DTEND;VALUE=DATE:20251106
SUMMARY:Jiří Kolbaba "Mystické Japonsko"
DESCRIPTION:Mystické Japonsko (NOVINKA )Navštívit Zemi vycházejícího slunce\, je snem mnohých cestovatelů. Mám rád tajemnou historii\, i dech beroucí současnost. Znovu a znovu mě překvapuje smysl pro pořádek\, pokora a slušnost\, stejně jako pracovitost a technická vyspělost současné japonské společnosti.&nbsp\;Návštěva Japonska je cestovatelský\, duchovní\, kulturní i gurmánský zážitek.V dubnu 2025 bude v Ósace zahájena šestiměsíční Světová výstava EXPO. Už teď se na další návštěvu těším.
LOCATION:Zbýšov
END:VEVENT
END:VCALENDAR