BEGIN:VCALENDAR
VERSION:2.0
CALSCALE:GREGORIAN
PRODID:-//MyApp//Calendar 1.0//EN
BEGIN:VEVENT
METHOD:PUBLISH
UID:50893@regionalniportaly.cz
DTSTAMP:20260422T124857Z
DTSTART;VALUE=DATE:20251010
DTEND;VALUE=DATE:20251011
SUMMARY:Na zlatém jezeře
DESCRIPTION:Délka představení 2 hodiny 40 minut včetně přestávkyRomantická komedie se Simonou Stašovou a Ladislavem Frejem nebo Janem Vlasákem upřímně dojímá i baví.V kouzelném prostředí na březích Zlatého jezera tráví léto starší manželé. Věčně brblající\, nepraktický a naschvál i doopravdy zapomínající profesor v penzi Norman a jeho chápající žena Ethel\, starající se o muže i domácnost s neutuchajícím půvabem a noblesou. Příjezd dcery Chelseay s partnerem a jeho tvrdohlavým synkem Billym pomůže Normanovi vystoupit náhle z letargie a všechny zaskočí svým příkladem: Vždycky je čas za život\, i ten nejobyčejnější\, začít se znovu prát.Příběh s ojedinělou partiturou pro herecké&nbsp\;výkony&nbsp\;zákonitě&nbsp\; nemohl uniknout pozornosti filmařů. Světovou popularitu předlohy ve filmu režiséra Marka Rydella\, který byl natočen v roce 1981\, umocnily výkony Henryho Fondy (Norman Thayer) a Katherine Hepburnové (Ethel Thayerová)\, odměněné spolu se scénářem Oskary\; ve filmu hrála i Jane Fondová (Chelsea). A není divu\, že téma s nadčasovou platností&nbsp\; zaujalo i evropskou dramaturgii\, například v pařížském Theatre Montparnasse v roce 1986 vytvořili ústřední dvojici Jean Marais a Edwige Feuillerová.Inscenace Agentury Harlekýn.
LOCATION:Zbýšov
END:VEVENT
END:VCALENDAR