BEGIN:VCALENDAR
VERSION:2.0
CALSCALE:GREGORIAN
PRODID:-//MyApp//Calendar 1.0//EN
BEGIN:VEVENT
METHOD:PUBLISH
UID:50828@regionalniportaly.cz
DTSTAMP:20260423T060543Z
DTSTART;VALUE=DATE:20250214
DTEND;VALUE=DATE:20250215
SUMMARY:Bridget Jonesová: Láskou šílená
DESCRIPTION:
LOCATION:Zbýšov
END:VEVENT
END:VCALENDAR