BEGIN:VCALENDAR
VERSION:2.0
CALSCALE:GREGORIAN
PRODID:-//MyApp//Calendar 1.0//EN
BEGIN:VEVENT
METHOD:PUBLISH
UID:50827@regionalniportaly.cz
DTSTAMP:20260423T043937Z
DTSTART;VALUE=DATE:20250207
DTEND;VALUE=DATE:20250208
SUMMARY:Paddington v džungli
DESCRIPTION:
LOCATION:Zbýšov
END:VEVENT
END:VCALENDAR