BEGIN:VCALENDAR
VERSION:2.0
CALSCALE:GREGORIAN
PRODID:-//MyApp//Calendar 1.0//EN
BEGIN:VEVENT
METHOD:PUBLISH
UID:50826@regionalniportaly.cz
DTSTAMP:20260423T062846Z
DTSTART;VALUE=DATE:20250207
DTEND;VALUE=DATE:20250208
SUMMARY:Holka od vedle
DESCRIPTION:
LOCATION:Zbýšov
END:VEVENT
END:VCALENDAR