BEGIN:VCALENDAR
VERSION:2.0
CALSCALE:GREGORIAN
PRODID:-//MyApp//Calendar 1.0//EN
BEGIN:VEVENT
METHOD:PUBLISH
UID:50759@regionalniportaly.cz
DTSTAMP:20260423T015600Z
DTSTART;VALUE=DATE:20250831
DTEND;VALUE=DATE:20250901
SUMMARY:Štístko a Poupěnka "Největší show"
DESCRIPTION:Ahoj\, Broučkové!Sen se proměnil v realitu a my vyrážíme za vámi s vašimi nejoblíbenějšími písničkami. Připravte se na naši Největší show – nejen plnou největších hitů\, ale i úžasné světelné podívané!&nbsp\;Těšíme se na vás\, Vaši Štístko a Poupěnka
LOCATION:Zbýšov
END:VEVENT
END:VCALENDAR