BEGIN:VCALENDAR
VERSION:2.0
CALSCALE:GREGORIAN
PRODID:-//MyApp//Calendar 1.0//EN
BEGIN:VEVENT
METHOD:PUBLISH
UID:50678@regionalniportaly.cz
DTSTAMP:20260423T033851Z
DTSTART;VALUE=DATE:20250420
DTEND;VALUE=DATE:20250421
SUMMARY:GATE Crasher a BASTARD v Horních Dubňanech
DESCRIPTION:Jedinečné spojení moravských hudebních celků GATE Crasher a BASTARD v Horních Dubňanech!Neděle 20.4.2025\, 19:00Kulturní dům Horní Dubňany\, Horní Dubňany 12\, 671 73 TulešiceGATE CrasherRocková smršť GATE Crasher je stále známějším jménem na domácí scéně. Pravidelně vystupuje na největších letních festivalech\, hrála jako host zahraničních hvězd (Aerosmith \, Ozzy Osbourne\, Korn\, Iron Maiden ..) a aktuálně boduje s novinkami TŘI KŘÍŽE a JAKO VLCI\, které se rychle stávají nejúspěšnějšími písněmi v její historii.&nbsp\;BastardHavířovští hard-rockeři BASTARD chytli po restartu koncem roku 2016 „ Druhou müzu “\, tak se totiž jmenuje jejich v pořadí druhé CD\, které vydali v lednu 2020 a pokřtili na tour s britskou legendou URIAH HEEP a pokropili ho jistě živou vodou\, protože s ní sklízí samé úspěchy. V anketě rock magazínu Spark se v anketě Album roku 2020 - CZ/SK scéna umístilo na 3.místě.Nové album "Alchymie d.n.a." vyšlo 28.10.22 a koncertní prezentace byla v březnu\, kdy BASTARD jel jako host na TRAKTOR CLUB TOUR 2023.
LOCATION:Horní Dubňany
END:VEVENT
END:VCALENDAR