BEGIN:VCALENDAR
VERSION:2.0
CALSCALE:GREGORIAN
PRODID:-//MyApp//Calendar 1.0//EN
BEGIN:VEVENT
METHOD:PUBLISH
UID:50532@regionalniportaly.cz
DTSTAMP:20260423T044528Z
DTSTART;VALUE=DATE:20250301
DTEND;VALUE=DATE:20250302
SUMMARY:Ochutnávka vín Moravské Bránice
DESCRIPTION:Zveme Vás na XVIII. ročník tradiční&nbsp\;Ochutnávky&nbsp\;vín v Moravských Bránicích.Jedná se o&nbsp\;prezentaci&nbsp\;vín především z&nbsp\;dolnokounické oblasti\, ale i&nbsp\;z širšího okolí.&nbsp\;Ochutnat budete moci 463 vzorků vín: 278 bílých\, 35 rosé a 150 červených.Výstava proběhne v místní sokolovně. Sokolovna bude otevřena již od 13:00\, nalévat ale začneme&nbsp\;ve 14:00.K tanci a poslechu bude hrát cimbálová muzika GRAJCAR.&nbsp\;Program:14:00 Zahájení ochutnávky16:00 Cimbálová muzika17:00&nbsp\;Vyhlášení šampionů21:00 Ukončení ochutnávkyObčerstvení zajišťuje&nbsp\;T.J. Sokol\, oddíl kopané&nbsp\;(dobroty z udírny\, sýrové talíře a další).Cena vstupenky: na místě: 450&nbsp\;Kč / v předprodeji: 400&nbsp\;KčV ceně: neomezená degustace vín\,&nbsp\;sklenička a&nbsp\;katalog.Srdečně zvou bráničtí zahrádkáři!
LOCATION:Moravské Bránice
END:VEVENT
END:VCALENDAR