BEGIN:VCALENDAR
VERSION:2.0
CALSCALE:GREGORIAN
PRODID:-//MyApp//Calendar 1.0//EN
BEGIN:VEVENT
METHOD:PUBLISH
UID:50500@regionalniportaly.cz
DTSTAMP:20260423T044252Z
DTSTART;VALUE=DATE:20250222
DTEND;VALUE=DATE:20250223
SUMMARY:90's Oldies party - Dolní Kounice
DESCRIPTION:Prožijte večer v rytmu nezapomenutelných hitů z minulých dekád! Přijďte v retro outfitech a užijte si skvělou atmosféru\, hudbu a zábavu.
LOCATION:Dolní Kounice
END:VEVENT
END:VCALENDAR