BEGIN:VCALENDAR
VERSION:2.0
CALSCALE:GREGORIAN
PRODID:-//MyApp//Calendar 1.0//EN
BEGIN:VEVENT
METHOD:PUBLISH
UID:50414@regionalniportaly.cz
DTSTAMP:20260423T001315Z
DTSTART;VALUE=DATE:20250530
DTEND;VALUE=DATE:20250531
SUMMARY:PSYCHOHRÁTKY zábavná show Evy Holubové
DESCRIPTION:"Psychohrátky" jsou populárně naučná zábavná show o duševním zdraví s prvky stand-upu a besedy. Během 90 minut vás baví a zároveň vám předávají důležité informace. V show se představí Eva Holubová\, Karolína Holubová\, Matěj Paprčiak a psycholog Jiří Valášek. Můžete se těšit na vtipné scénky\, interaktivní cvičení a živou diskuzi. Cílem je odlehčit tématu duševního zdraví a předat informace přirozenou a chytlavou formou.https://www.holubiceagency.com/psychohratky&nbsp\;
LOCATION:Moravský Krumlov
END:VEVENT
END:VCALENDAR