BEGIN:VCALENDAR
VERSION:2.0
CALSCALE:GREGORIAN
PRODID:-//MyApp//Calendar 1.0//EN
BEGIN:VEVENT
METHOD:PUBLISH
UID:50145@regionalniportaly.cz
DTSTAMP:20260423T032158Z
DTSTART;VALUE=DATE:20250317
DTEND;VALUE=DATE:20250318
SUMMARY:ŠVANCI SHOW JÁ SU JÁ
DESCRIPTION:Nová zábavná show "JÁ SU JÁ" vyráží na TOUR po celé České republice.Čekají vás vtipné historky\, od kariéry fotbalisty\, velkolepé rozlučky za Lužánkami\, návštěvrůzných zábavních pořadů\, až po účast v reality show Survivor. Dále se těšte na prostor prootázky na tělo\, autogramiádu\, focení a mnoho dalšího.Jak moc dobře mě znáš? Jak vypadá můj život po kariéře fotbalisty? Chceš znát více informacío reality show Surviror?Nejen to se dozvíš ve zbrusu nové zábavné show "JÁ SU JÁ".Přijď se podívat a užít si legraci\, popovídat si s legendou fotbalu\, moderátorem\, bavičem
LOCATION:Moravský Krumlov
END:VEVENT
END:VCALENDAR