BEGIN:VCALENDAR
VERSION:2.0
CALSCALE:GREGORIAN
PRODID:-//MyApp//Calendar 1.0//EN
BEGIN:VEVENT
METHOD:PUBLISH
UID:50125@regionalniportaly.cz
DTSTAMP:20260423T044213Z
DTSTART;VALUE=DATE:20250124
DTEND;VALUE=DATE:20250125
SUMMARY:Zlatovláska
DESCRIPTION:Královský panoš Jiřík ochutná sousto z&nbsp\;magického hada a&nbsp\;porozumí řeči zvířat. Proviní se&nbsp\;tím však proti příkazu svého krále\, a&nbsp\;tak jej čeká buď trest smrti\, nebo&nbsp\;nejistá a&nbsp\;nebezpečná cesta za&nbsp\;Zlatovláskou\, princeznou z&nbsp\;tajemné říše uprostřed moře. Vydá se&nbsp\;proto na&nbsp\;cestu v&nbsp\;doprovodu Štěpána\, se&nbsp\;kterým vyrůstal od&nbsp\;dětství\, a&nbsp\;malého psíka Štístka\, jemuž Jiřík zachránil život. Jiříka čeká po&nbsp\;cestě&nbsp\;celá řada dobrodružství i&nbsp\;překvapení. Netuší\, že&nbsp\;Štěpánem cloumá závist a&nbsp\;není to&nbsp\;tak upřímný kamarád\, jakým se&nbsp\;zdál být. Naštěstí má Jiřík statečné spojence\, zvířátka\, kterým pomohl.
LOCATION:Zbýšov
END:VEVENT
END:VCALENDAR