BEGIN:VCALENDAR
VERSION:2.0
CALSCALE:GREGORIAN
PRODID:-//MyApp//Calendar 1.0//EN
BEGIN:VEVENT
METHOD:PUBLISH
UID:50124@regionalniportaly.cz
DTSTAMP:20260423T063000Z
DTSTART;VALUE=DATE:20250124
DTEND;VALUE=DATE:20250125
SUMMARY:Na plech
DESCRIPTION:Film Na plech osobitým způsobem pojímá příběh Marka\, který po dokončení vysokoškolských studií vstupuje do života. Zažívá spoustu neotřelých dobrodružství\, aby nakonec dospěl k poznání\, že rodina a přátelství jsou to nejdůležitější. Ve svém zaměstnání dostává na starost velmi ambiciózní projekt\, ale v osobním životě má nečekané potíže. Poté\, co na chodbě domu nalezne batoh a snaží se ho poctivě vrátit\, je zadržen inspektorem. Policista ho však nezavře do vězení\, ale přiměje ke spolupráci. Marek se proto musí vetřít do přízně třech bratrů Grundzových\, kteří v bytě o patro níž vaří pervitin. Plně využívá svých znalostí z vysoké školy ekonomické\, ke skupině se záhy přidá i Grundza\, hlava rodiny\, adrogový obchod jen kvete. Soužití s nově získanými přáteli přináší řadu humorných\, ale i napínavých okamžiků. Divák bude nejen stržen dějem\, zároveň se dozví řadu zajímavých faktů z blízké i vzdálenější historie.&nbsp\;
LOCATION:Zbýšov
END:VEVENT
END:VCALENDAR