BEGIN:VCALENDAR
VERSION:2.0
CALSCALE:GREGORIAN
PRODID:-//MyApp//Calendar 1.0//EN
BEGIN:VEVENT
METHOD:PUBLISH
UID:50123@regionalniportaly.cz
DTSTAMP:20260423T044222Z
DTSTART;VALUE=DATE:20250117
DTEND;VALUE=DATE:20250118
SUMMARY:Hokus pokus Diplodokus
DESCRIPTION:Malý dinosaurus Diplodokus sní o velkém dobrodružství a touží prozkoumat krásný\, ale nebezpečný svět. Jenže zjistí\, že ve skutečnosti žije ve světě komiksu. Díky tomu je jeho putování ještě dobrodružnější a fantastičtější\, než na začátku čekal.
LOCATION:Zbýšov
END:VEVENT
END:VCALENDAR