BEGIN:VCALENDAR
VERSION:2.0
CALSCALE:GREGORIAN
PRODID:-//MyApp//Calendar 1.0//EN
BEGIN:VEVENT
METHOD:PUBLISH
UID:50011@regionalniportaly.cz
DTSTAMP:20260423T031401Z
DTSTART;VALUE=DATE:20250112
DTEND;VALUE=DATE:20250113
SUMMARY:KAFE U OSMANYHO - přístavek
DESCRIPTION:
LOCATION:Zbýšov
END:VEVENT
END:VCALENDAR