BEGIN:VCALENDAR
VERSION:2.0
CALSCALE:GREGORIAN
PRODID:-//MyApp//Calendar 1.0//EN
BEGIN:VEVENT
METHOD:PUBLISH
UID:49960@regionalniportaly.cz
DTSTAMP:20260423T013445Z
DTSTART;VALUE=DATE:20250110
DTEND;VALUE=DATE:20250111
SUMMARY:JEŽEK SONIC 3
DESCRIPTION:
LOCATION:Zbýšov
END:VEVENT
END:VCALENDAR