BEGIN:VCALENDAR
VERSION:2.0
CALSCALE:GREGORIAN
PRODID:-//MyApp//Calendar 1.0//EN
BEGIN:VEVENT
METHOD:PUBLISH
UID:49248@regionalniportaly.cz
DTSTAMP:20260423T031227Z
DTSTART;VALUE=DATE:20241227
DTEND;VALUE=DATE:20241228
SUMMARY:Superskřítkové
DESCRIPTION:Jsou nenápadní\, vlastně skoro neviditelní – skřítkové. Po staletí tu žijí s námi a tajně pomáhají pekařům\, švadlenkám i dalším řemeslníkům. A nejen jim! I když to občas vypadá\, že se nám něco povedlo náhodou\, můžou za to skřítci. Myslet si přitom\, že jde jen o nějaké fousaté pidimužíky\, by byl velký omyl! Existují totiž mimořádně technologicky vyspělí Superskřítci\, kteří nezkazí žádnou legraci. Tohle zjištění obrátí malé Helvi život vzhůru nohama. Dokáže její přátelství s Bo\, nejmladším z nové generace skřítků\, konečně ukončit odvěkou rivalitu mezi jejich klany?
LOCATION:Zbýšov
END:VEVENT
END:VCALENDAR