BEGIN:VCALENDAR
VERSION:2.0
CALSCALE:GREGORIAN
PRODID:-//MyApp//Calendar 1.0//EN
BEGIN:VEVENT
METHOD:PUBLISH
UID:49245@regionalniportaly.cz
DTSTAMP:20260423T013455Z
DTSTART;VALUE=DATE:20241227
DTEND;VALUE=DATE:20241228
SUMMARY:Ježek Sonic 3
DESCRIPTION:Sonic\, Knuckles a Tails se znovu setkávají s novým mocným protivníkem Shadowem\, tajemným padouchem\, který má jiné schopnosti než všichni ostatní. Jelikož jsou jejich schopnosti v přesile\, musí tým Sonic hledat nepravděpodobné spojenectví.
LOCATION:Zbýšov
END:VEVENT
END:VCALENDAR