BEGIN:VCALENDAR
VERSION:2.0
CALSCALE:GREGORIAN
PRODID:-//MyApp//Calendar 1.0//EN
BEGIN:VEVENT
METHOD:PUBLISH
UID:49244@regionalniportaly.cz
DTSTAMP:20260423T013408Z
DTSTART;VALUE=DATE:20241213
DTEND;VALUE=DATE:20241214
SUMMARY:Zvířátka a Vánoce
DESCRIPTION:Kouzelné příběhy se odehrávají ve filmu Zvířátka a Vánoce\, kde ožívají sváteční zázraky. Ponořte se do hřejivých a moderních příběhů\, v nichž se zvířátka vydávají na kouzelnou cestu od Francie přes Japonsko až po daleký sever a jeho polární záři a šíří radost a štědrost. Každý příběh je rozmarným dobrodružstvím plným kouzla\, smíchu a krásy zimního období. Nechte se unést poezií a přeneste se do světa\, kde kouzlo Vánoc nezná hranic.
LOCATION:Zbýšov
END:VEVENT
END:VCALENDAR