BEGIN:VCALENDAR
VERSION:2.0
CALSCALE:GREGORIAN
PRODID:-//MyApp//Calendar 1.0//EN
BEGIN:VEVENT
METHOD:PUBLISH
UID:49242@regionalniportaly.cz
DTSTAMP:20260423T031341Z
DTSTART;VALUE=DATE:20241213
DTEND;VALUE=DATE:20241214
SUMMARY:Léto s Evženem
DESCRIPTION:Rodinná komedie plná nečekaných letních dobrodružstvíTatínkové se rozhodnou zachránit pro děti letní tábor\, děti se rozhodnou zachránit hrad - navzdory svéráznému kastelánovi\, který je nejšťastnější\, když žádní turisté na prohlídku hradu nepřijdou.&nbsp\;Komedie\, na kterou se mohou s&nbsp\;chutí podívat rodiče společně s&nbsp\;dětmi.
LOCATION:Zbýšov
END:VEVENT
END:VCALENDAR