BEGIN:VCALENDAR
VERSION:2.0
CALSCALE:GREGORIAN
PRODID:-//MyApp//Calendar 1.0//EN
BEGIN:VEVENT
METHOD:PUBLISH
UID:49219@regionalniportaly.cz
DTSTAMP:20260423T043926Z
DTSTART;VALUE=DATE:20250222
DTEND;VALUE=DATE:20250223
SUMMARY:Oldies párty
DESCRIPTION:Oldies pártyProžijte večer v rytmu nezapomenutelných hitů z minulých dekád! Přijďte v retro outfitech a užijte si skvělou atmosféru\, hudbu a zábavu.&nbsp\;Těšíme se na vás!&nbsp\;Datum: Sobota 22. února 2025Čas: 20:00 - 02:00Místo: Kulturní dům Dolní KouniceVstupné: 200 KčVstup: Pouze od 18 let
LOCATION:Dolní Kounice
END:VEVENT
END:VCALENDAR