BEGIN:VCALENDAR
VERSION:2.0
CALSCALE:GREGORIAN
PRODID:-//MyApp//Calendar 1.0//EN
BEGIN:VEVENT
METHOD:PUBLISH
UID:49124@regionalniportaly.cz
DTSTAMP:20260423T013322Z
DTSTART;VALUE=DATE:20241227
DTEND;VALUE=DATE:20241228
SUMMARY:ODVÁŽNÁ VAIANA 2
DESCRIPTION:
LOCATION:Zbýšov
END:VEVENT
END:VCALENDAR