BEGIN:VCALENDAR
VERSION:2.0
CALSCALE:GREGORIAN
PRODID:-//MyApp//Calendar 1.0//EN
BEGIN:VEVENT
METHOD:PUBLISH
UID:49109@regionalniportaly.cz
DTSTAMP:20260422T234412Z
DTSTART;VALUE=DATE:20241207
DTEND;VALUE=DATE:20241208
SUMMARY:Pán prstenů: Válka Rohirů
DESCRIPTION:Animovaný snímek Pán prstenů: Válka Rohirů se odehrává 183 let před událostmi\, o nichž pojednává původní trilogie\, a vypráví příběh rodu Helma Kladiva\, legendárního krále Rohanu. Náhlý útok vychytralého a nemilosrdného náčelníka Vrchovců Wulfa\, jenž touží pomstít smrt svého otce\, přinutí Helma a jeho lid k odvážné obraně v prastaré pevnosti zvané Hláska\, jež se nachází v údolí\, kterému se od té doby říká Helmův žleb. Ve stále zoufalejší situace musí Helmova dcera Héra prokázat silnou vůli a odolat strašlivému nepříteli\, který si chce podrobit ji i její lid.
LOCATION:Zbýšov
END:VEVENT
END:VCALENDAR