BEGIN:VCALENDAR
VERSION:2.0
CALSCALE:GREGORIAN
PRODID:-//MyApp//Calendar 1.0//EN
BEGIN:VEVENT
METHOD:PUBLISH
UID:49108@regionalniportaly.cz
DTSTAMP:20260422T234431Z
DTSTART;VALUE=DATE:20241207
DTEND;VALUE=DATE:20241208
SUMMARY:Bob a Bobek: Na stopě Mrkvojeda
DESCRIPTION:Známá králičí dvojice Bob a Bobek se poprvé ukáže ve filmu.V hlavních rolích se představí králíci Bob a Bobek žijící v maringotce po slavném kouzelníkovi v zahrádkářské kolonii\, kde se připravuje soutěž o nejlepší zeleninu Zlatý kořen. Bob a Bobek se do soutěže zapojí\, ale jejich zahrádkářské schopnosti zrovna nejsou nejlepší a konkurence je veliká.
LOCATION:Zbýšov
END:VEVENT
END:VCALENDAR