BEGIN:VCALENDAR
VERSION:2.0
CALSCALE:GREGORIAN
PRODID:-//MyApp//Calendar 1.0//EN
BEGIN:VEVENT
METHOD:PUBLISH
UID:49036@regionalniportaly.cz
DTSTAMP:20260423T044422Z
DTSTART;VALUE=DATE:20250122
DTEND;VALUE=DATE:20250123
SUMMARY:Vandráci - Papua Nová Guinea
DESCRIPTION:Papua Nová GuineaPo úspěšném vandráckém představení Střední Ameriky 2018\, se kterým Jan Révai a Pavel Liška objeli celou naši republiku (přestože se skoro pokaždé pohádali o tom\, jak to vlastně bylo\, kdo chtěl pořád ujíždět\, kdo byl protivnej\, protože mu nedopřáli zajet si do civilizace pro kakao\, kdo si nadělal do trenek a zakázal to vyprávět)\, se nyní kluci vrací se zbrusu novým vyprávěním.Na velkém plátně doplní vyprávění promítáním fotek a videí z jejich druhé velké dobrodružné výpravy.Tentokrát se vrátili z druhého největšího ostrova světa\, ostrova lidojedů\, z tajemné Papuy Nové Guinei.
LOCATION:Zbýšov
END:VEVENT
END:VCALENDAR