BEGIN:VCALENDAR
VERSION:2.0
CALSCALE:GREGORIAN
PRODID:-//MyApp//Calendar 1.0//EN
BEGIN:VEVENT
METHOD:PUBLISH
UID:48841@regionalniportaly.cz
DTSTAMP:20260423T013309Z
DTSTART;VALUE=DATE:20241228
DTEND;VALUE=DATE:20241229
SUMMARY:Lidové Vánoce\, sejdeme se s koledou
DESCRIPTION:Koncert Cimbálové muziky Dyjavan.
LOCATION:Moravský Krumlov
END:VEVENT
END:VCALENDAR