BEGIN:VCALENDAR
VERSION:2.0
CALSCALE:GREGORIAN
PRODID:-//MyApp//Calendar 1.0//EN
BEGIN:VEVENT
METHOD:PUBLISH
UID:48837@regionalniportaly.cz
DTSTAMP:20260423T032245Z
DTSTART;VALUE=DATE:20250627
DTEND;VALUE=DATE:20250628
SUMMARY:ZRUŠENO - Protheus - Koncert pod širým nebem | Moravský Krumlov
DESCRIPTION:ZRUŠENO!\n \n𝐏𝐑𝐎𝐓𝐇𝐄𝐔𝐒 zavítá již 27.6. pod širé nebe do areálu Vrabčí hájek v Moravském Krumlově! \nProtheus\, vlastním jménem Jan Macků\, se svojí kapelou složenou ze špiček české rockové scény\, připravuje na trio exkluzivních koncertů po širým nebem.\nProtheus má za sebou skutečně úspěšný první rok sólové kariéry. Kapela odehrála osmadvacet koncertů společného turné s kapelou Komunál. Vystoupila na několika desítkách festivalů a slavností po celé ČR a vše završila vyprodaným megakoncertem ve Foru Karlín.\nNa léto chystá Protheus i sérii originálních koncertů! Bude to nejen hudební zážitek\, ale Protheus si pro svoje fanoušky pokaždé připravuje pořádnou rockovou show a zároveň „rodinnou atmosféru“. Jak sám říká „Není to jen koncert. Je to oslava života\, rokenrolu a společné energie. Je to sounáležitost a radost.“
LOCATION:Moravský Krumlov
END:VEVENT
END:VCALENDAR