BEGIN:VCALENDAR
VERSION:2.0
CALSCALE:GREGORIAN
PRODID:-//MyApp//Calendar 1.0//EN
BEGIN:VEVENT
METHOD:PUBLISH
UID:48462@regionalniportaly.cz
DTSTAMP:20260423T050706Z
DTSTART;VALUE=DATE:20250429
DTEND;VALUE=DATE:20250430
SUMMARY:Bosé nohy v parku
DESCRIPTION:Romantická komedie&nbsp\;nejen o lásce.I&nbsp\;to nejšťastnější manželství&nbsp\;prochází občas zkouškou ohněm.Osoby a obsazení:VIKTORIE Bratterová -&nbsp\;Anna Kameníková (Linhartová)/ Karolína VágnerováPAVEL Bratter -&nbsp\;Radúz Mácha&nbsp\;ESTER Banksová -&nbsp\;Veronika Freimanová&nbsp\;HEKTOR Velasco - Rudolf Hrušínský&nbsp\;&nbsp\;Překlad a režie: Kateřina IvákováDélka představení:bez přestávky cca 1h 40 minutPremiéra na podzim 2015.&nbsp\;
LOCATION:Zbýšov
END:VEVENT
END:VCALENDAR