BEGIN:VCALENDAR
VERSION:2.0
CALSCALE:GREGORIAN
PRODID:-//MyApp//Calendar 1.0//EN
BEGIN:VEVENT
METHOD:PUBLISH
UID:48460@regionalniportaly.cz
DTSTAMP:20260423T014543Z
DTSTART;VALUE=DATE:20250406
DTEND;VALUE=DATE:20250407
SUMMARY:Karol a Kvído - Pirátský poklad
DESCRIPTION:Nový program známé dvojice Karol a Kvído.Děti do 2 let bez nároku na sedadlo vstup zdarma!
LOCATION:Zbýšov
END:VEVENT
END:VCALENDAR