BEGIN:VCALENDAR
VERSION:2.0
CALSCALE:GREGORIAN
PRODID:-//MyApp//Calendar 1.0//EN
BEGIN:VEVENT
METHOD:PUBLISH
UID:48459@regionalniportaly.cz
DTSTAMP:20260423T032208Z
DTSTART;VALUE=DATE:20250302
DTEND;VALUE=DATE:20250303
SUMMARY:Prachy !!!
DESCRIPTION:Jean připravuje večeři na oslavu narozenin svého manžela\, mírného účetního Henryho. Každou chvíli mají přijít hosté\, ale oslavenec má zpoždění. Když konečně přijde\, Jean ho nepoznává - Henry chce okamžitě emigrovat do Barcelony! Má k&nbsp\;tomu ovšem pádný důvod: v&nbsp\;metru omylem sebral cizí kufřík nacpaný bankovkami v&nbsp\;hodnotě tři čtvrtě milionu liber. Ponechat si evidentně špinavé peníze je však těžší než k&nbsp\;nim přijít. Jakmile se na scéně objeví dva policisté\, přátelé Vic a&nbsp\;Betty a&nbsp\;drzý taxikář Bill\, rozpoutá se zběsilá hra na kočku a&nbsp\;myš plná nečekaných zvratů\, v&nbsp\;níž se oba manželské páry snaží pomocí falešných identit za každou cenu peníze udržet. Brilantní fraška se s&nbsp\;obrovským úspěchem hrála po celém světě a&nbsp\;o jejím autorovi napsal recenzent londýnského Daily Telegraphu: "Ray Cooney je často lepší než Feydeau... je to národní poklad."Délka představení:&nbsp\;120 minut (včetně&nbsp\;přestávky)Ray Cooney: Prachy ! ! !Překlad: Pavel&nbsp\;DominikRežie: Jana&nbsp\;KališováScéna: Martin&nbsp\;ČernýKostýmy: Jana&nbsp\;ZbořilováZvuk\, světla: Tomáš&nbsp\;Petrásek / Karel&nbsp\;KommHrají:Jean Perkinsová - Vanda HybnerováHenry Perkins - Ondřej VetchýBill -&nbsp\;Richard TrsťanSlater -&nbsp\;Michal NovotnýDavenport -&nbsp\;Jiří Štrébl&nbsp\;/&nbsp\;Zdeněk VelenBetty Johnsonová - Sabina Laurinová / Andrea HoffmannováVic Johnson -&nbsp\;Pavel KikinčukChodec - Zdeněk Košata / Rudolf Slivka&nbsp\;
LOCATION:Zbýšov
END:VEVENT
END:VCALENDAR