BEGIN:VCALENDAR
VERSION:2.0
CALSCALE:GREGORIAN
PRODID:-//MyApp//Calendar 1.0//EN
BEGIN:VEVENT
METHOD:PUBLISH
UID:48334@regionalniportaly.cz
DTSTAMP:20260422T222109Z
DTSTART;VALUE=DATE:20250808
DTEND;VALUE=DATE:20250809
SUMMARY:Koncert: Lenka Filipová v Dolních Kounicích
DESCRIPTION:Srdečně vás zveme na nezapomenutelný koncert Lenky Filipové\, jedné z nejoblíbenějších českých zpěvaček a kytaristek\, který se uskuteční v nádherném prostředí kláštera Rosa coeli (v případě nepřízně počasí v kulturním domě). Přijďte si vychutnat večer plný kouzelných melodií a nádherných písní.\n \nLenka Filipová je uznávanou umělkyní s bohatou hudební kariérou\, která zahrnuje desítky alb a nespočet koncertů po celém světě. Její hudba oslovuje posluchače napříč generacemi a její jedinečný styl spojuje prvky folku\, šansonu a klasické hudby.\n \nPředprodej vstupenek od 1. 12. 2024 online na Regionivancicko.cz nebo fyzicky na TIC Dolní Kounice.
LOCATION:Dolní Kounice
END:VEVENT
END:VCALENDAR