BEGIN:VCALENDAR
VERSION:2.0
CALSCALE:GREGORIAN
PRODID:-//MyApp//Calendar 1.0//EN
BEGIN:VEVENT
METHOD:PUBLISH
UID:48333@regionalniportaly.cz
DTSTAMP:20260422T222210Z
DTSTART;VALUE=DATE:20250511
DTEND;VALUE=DATE:20250512
SUMMARY:Míša Růžičková: Hurá za dobrodružstvím - Dolní Kounice
DESCRIPTION:Předprodej vstupenek online nebo fyzicky na TIC Dolní Kounice.\n \nMíša Růžičková se svojí písničkovou show přináší zábavu pro nejmenší diváky. V hodinovém programu si děti zazpívají její nejznámější dětské hity a zatančí si na nejoblíbenější písničky jako jsou Sloník Toník\, Hasičská\, Popeláři\, Tanec princezen a spoustu dalších\, podle tematického zaměření pořadu. Během představení Míša děti zapojuje do písniček a zve je na pódium. Na konci pořadu rozdává dětem sladkou odměnu. Po vystoupení se mají možnost všechny děti setkat s Míšou na autogramiádě\, vyfotit se\, nebo si nechat podepsat plakát\, CD\, DVD či tričko.\n \nPředstavení je vhodné pro děti od 2 let. Děti do 2 let mají vstup zdarma.
LOCATION:Dolní Kounice
END:VEVENT
END:VCALENDAR