BEGIN:VCALENDAR
VERSION:2.0
CALSCALE:GREGORIAN
PRODID:-//MyApp//Calendar 1.0//EN
BEGIN:VEVENT
METHOD:PUBLISH
UID:48122@regionalniportaly.cz
DTSTAMP:20260423T014651Z
DTSTART;VALUE=DATE:20250328
DTEND;VALUE=DATE:20250329
SUMMARY:Juwana Jenkins
DESCRIPTION:Průbojná Afroameričanka a&nbsp\;pódiová tygřice\, co chtěla být zpěvačkou už jako malá holka. „Od dětství mám v&nbsp\;srdci i&nbsp\;hlavě mnoho skvělé hudby\, která se&nbsp\;vyvinula z&nbsp\;blues\, soulu\, funku\, rapu a&nbsp\;hip-hopu na&nbsp\;ulicích Filadelfie\,“ uvedla zpěvačka.Nyní se&nbsp\;Juwana pouští do&nbsp\;prvního sólového počinu a&nbsp\;je připravena experimentovat s&nbsp\;novými hudebními žánry a&nbsp\;směry. I&nbsp\;když je stále silně cítit vliv strunných nástrojů a&nbsp\;soulu\, inspiruje se&nbsp\;také směsicí rocku a&nbsp\;hip-hopu. Nový singl „Thank You“ slibuje\, že bude drsnou\, syrovou rockovou hymnou pro každého.OBSAZENÍ:Juwana Jenkins - vocalJiří Maršíček - kytaraMarcus Jurkovič - bicíMichal Arnot - baskytara
LOCATION:Moravský Krumlov
END:VEVENT
END:VCALENDAR