BEGIN:VCALENDAR
VERSION:2.0
CALSCALE:GREGORIAN
PRODID:-//MyApp//Calendar 1.0//EN
BEGIN:VEVENT
METHOD:PUBLISH
UID:47912@regionalniportaly.cz
DTSTAMP:20260422T234509Z
DTSTART;VALUE=DATE:20241122
DTEND;VALUE=DATE:20241123
SUMMARY:Vandráci na ostrově lidojedů
DESCRIPTION:Dobrodružný dokument od režiséra MARKA NAJBRTA. Tři chlapi\, PAVEL LIŠKA\, HONZA RÉVAI a HYNEK BERNARD\, tři motorky\, BMW 650GS\, BMW 1150 GSA a KTM 990\, plus nepočítaně zážitků a dobrodružství. Vandráci tentokrát vyrazili objevovat krásy i nástrahy Papuy Nové Guiney…
LOCATION:Zbýšov
END:VEVENT
END:VCALENDAR