BEGIN:VCALENDAR
VERSION:2.0
CALSCALE:GREGORIAN
PRODID:-//MyApp//Calendar 1.0//EN
BEGIN:VEVENT
METHOD:PUBLISH
UID:47911@regionalniportaly.cz
DTSTAMP:20260423T013507Z
DTSTART;VALUE=DATE:20241122
DTEND;VALUE=DATE:20241123
SUMMARY:Čaroděj Kajtek
DESCRIPTION:Kajtek je dvanáctiletý chlapec s výjimečně rebelským temperamentem. Jednoho dne v sobě objeví nadpřirozené schopnosti. Tento neobvyklý talent v kombinaci s chlapeckým zlobivým charakterem však znamená velké problémy nejen pro rodinu\, pro školu\, ale i pro celé město.Hrají: Eryk Biedunkiewicz\, Maja Komorowska\, Martin HofmannRežie: Magdalena ŁazarkiewiczDélka: 103 min | Mládeži přístupný
LOCATION:Zbýšov
END:VEVENT
END:VCALENDAR