BEGIN:VCALENDAR
VERSION:2.0
CALSCALE:GREGORIAN
PRODID:-//MyApp//Calendar 1.0//EN
BEGIN:VEVENT
METHOD:PUBLISH
UID:47910@regionalniportaly.cz
DTSTAMP:20260422T220142Z
DTSTART;VALUE=DATE:20241107
DTEND;VALUE=DATE:20241108
SUMMARY:Red One
DESCRIPTION:Poté\, co je Santa Claus (krycí jméno: RED ONE) unesen\, musí se šéf ochranky severního pólu (Dwayne Johnson) spojit s nejznámějším lovcem odměn na světě (Chris Evans)\, aby společně procestovali celý svět a zachránili Vánoce.&nbsp\;HRAJÍ:Dwayne Johnson\, Chris Evans\, Lucy Liu\, J. K. Simmons\, Bonnie Hunt\, Kristofer Hivju\, Kiernan Shipka\, Mary Elizabeth Ellis\, Wesley Kimmel\, Nick Kroll\, Wyatt HuntREŽIE: Jake KasdanPRODUKCE: USA 2024VĚKOVÁ HRANICE: 12+Délka filmu: 122 minut&nbsp\;
LOCATION:Zbýšov
END:VEVENT
END:VCALENDAR