BEGIN:VCALENDAR
VERSION:2.0
CALSCALE:GREGORIAN
PRODID:-//MyApp//Calendar 1.0//EN
BEGIN:VEVENT
METHOD:PUBLISH
UID:47745@regionalniportaly.cz
DTSTAMP:20260423T012347Z
DTSTART;VALUE=DATE:20241116
DTEND;VALUE=DATE:20241117
SUMMARY:Pohádka O nešikovné čarodějnici
DESCRIPTION:
LOCATION:Dolní Kounice
END:VEVENT
END:VCALENDAR