BEGIN:VCALENDAR
VERSION:2.0
CALSCALE:GREGORIAN
PRODID:-//MyApp//Calendar 1.0//EN
BEGIN:VEVENT
METHOD:PUBLISH
UID:47707@regionalniportaly.cz
DTSTAMP:20260422T235906Z
DTSTART;VALUE=DATE:20241101
DTEND;VALUE=DATE:20241102
SUMMARY:Buffalo Kids
DESCRIPTION:
LOCATION:Zbýšov
END:VEVENT
END:VCALENDAR