BEGIN:VCALENDAR
VERSION:2.0
CALSCALE:GREGORIAN
PRODID:-//MyApp//Calendar 1.0//EN
BEGIN:VEVENT
METHOD:PUBLISH
UID:47706@regionalniportaly.cz
DTSTAMP:20260422T204205Z
DTSTART;VALUE=DATE:20241101
DTEND;VALUE=DATE:20241102
SUMMARY:Amerikánka
DESCRIPTION:
LOCATION:Zbýšov
END:VEVENT
END:VCALENDAR