BEGIN:VCALENDAR
VERSION:2.0
CALSCALE:GREGORIAN
PRODID:-//MyApp//Calendar 1.0//EN
BEGIN:VEVENT
METHOD:PUBLISH
UID:46878@regionalniportaly.cz
DTSTAMP:20260423T014641Z
DTSTART;VALUE=DATE:20250612
DTEND;VALUE=DATE:20250613
SUMMARY:Dva nahatý chlapi
DESCRIPTION:Bláznivá komedie kontroverzního francouzského autora\, která v současné době slaví v Paříži velké úspěchy.Seriozní advokát\, věrný manžel a otec dvou dětí\, se jednoho dne probudí nahý v posteli se svým kolegou z práce.Ani jeden netuší\, jak se do této situace dostali\, manželka jednoho z nich však vymyslí způsob\, jak zjistit pravdu.Ale ta je\, jak se nakonec ukáže opravdové pravdě hodně vzdálená.&nbsp\;Autor:&nbsp\;Sébastien ThiéryHrají:&nbsp\;Martin Zounar\, Martin Kraus\, Martina Randová\, Daniela Šinkorová&nbsp\;
LOCATION:Zbýšov
END:VEVENT
END:VCALENDAR