BEGIN:VCALENDAR
VERSION:2.0
CALSCALE:GREGORIAN
PRODID:-//MyApp//Calendar 1.0//EN
BEGIN:VEVENT
METHOD:PUBLISH
UID:46877@regionalniportaly.cz
DTSTAMP:20260423T001305Z
DTSTART;VALUE=DATE:20250523
DTEND;VALUE=DATE:20250524
SUMMARY:Božský Bruce
DESCRIPTION:
LOCATION:Zbýšov
END:VEVENT
END:VCALENDAR