BEGIN:VCALENDAR
VERSION:2.0
CALSCALE:GREGORIAN
PRODID:-//MyApp//Calendar 1.0//EN
BEGIN:VEVENT
METHOD:PUBLISH
UID:46872@regionalniportaly.cz
DTSTAMP:20260423T044059Z
DTSTART;VALUE=DATE:20250206
DTEND;VALUE=DATE:20250207
SUMMARY:Rodinná porada
DESCRIPTION:
LOCATION:Zbýšov
END:VEVENT
END:VCALENDAR