BEGIN:VCALENDAR
VERSION:2.0
CALSCALE:GREGORIAN
PRODID:-//MyApp//Calendar 1.0//EN
BEGIN:VEVENT
METHOD:PUBLISH
UID:46871@regionalniportaly.cz
DTSTAMP:20260423T061915Z
DTSTART;VALUE=DATE:20250123
DTEND;VALUE=DATE:20250124
SUMMARY:Můj vzor Božský Karel
DESCRIPTION:Na přání očekávaný koncert zpěváka Kristiána Šebka\, který svým vystupováním a hlasem připomíná svého vzora Karla Gotta.Karel byl jen jeden a nezkouší ho napodobovat\, ale jeho písně mu tak přirostly k srdci\, že je rád zpívá a rozdává radost\, jeho pěvecký projev doprovází 12 ti členný orchestr.
LOCATION:Zbýšov
END:VEVENT
END:VCALENDAR