BEGIN:VCALENDAR
VERSION:2.0
CALSCALE:GREGORIAN
PRODID:-//MyApp//Calendar 1.0//EN
BEGIN:VEVENT
METHOD:PUBLISH
UID:46870@regionalniportaly.cz
DTSTAMP:20260423T031349Z
DTSTART;VALUE=DATE:20250108
DTEND;VALUE=DATE:20250109
SUMMARY:Čechomor - novoroční koncert
DESCRIPTION:
LOCATION:Zbýšov
END:VEVENT
END:VCALENDAR