BEGIN:VCALENDAR
VERSION:2.0
CALSCALE:GREGORIAN
PRODID:-//MyApp//Calendar 1.0//EN
BEGIN:VEVENT
METHOD:PUBLISH
UID:46869@regionalniportaly.cz
DTSTAMP:20260423T044130Z
DTSTART;VALUE=DATE:20250121
DTEND;VALUE=DATE:20250122
SUMMARY:Jen pravdu\, drahý
DESCRIPTION:Francouzská komedie o&nbsp\;nevěře\, ve které se lžejako&nbsp\;o&nbsp\;závod!Délka představení cca 80 minut bez přestávky (představení nemá přestávku)Michel:&nbsp\;&nbsp\; Jan ČenskýLaurence:&nbsp\; Dana MorávkováPaul:&nbsp\; Josef CardaAlice: Štěpánka Křesťanová&nbsp\;&nbsp\;&nbsp\;&nbsp\;&nbsp\;&nbsp\;&nbsp\;&nbsp\;&nbsp\;&nbsp\;&nbsp\;&nbsp\;Režie&nbsp\;&nbsp\;Antonín ProcházkaPřeklad&nbsp\;&nbsp\;Michal Zahálka
LOCATION:Zbýšov
END:VEVENT
END:VCALENDAR