BEGIN:VCALENDAR
VERSION:2.0
CALSCALE:GREGORIAN
PRODID:-//MyApp//Calendar 1.0//EN
BEGIN:VEVENT
METHOD:PUBLISH
UID:46718@regionalniportaly.cz
DTSTAMP:20260422T192151Z
DTSTART;VALUE=DATE:20241003
DTEND;VALUE=DATE:20241004
SUMMARY:Křoupat zdravě..
DESCRIPTION:
LOCATION:Zbýšov
END:VEVENT
END:VCALENDAR