BEGIN:VCALENDAR
VERSION:2.0
CALSCALE:GREGORIAN
PRODID:-//MyApp//Calendar 1.0//EN
BEGIN:VEVENT
METHOD:PUBLISH
UID:46507@regionalniportaly.cz
DTSTAMP:20260422T220119Z
DTSTART;VALUE=DATE:20241030
DTEND;VALUE=DATE:20241031
SUMMARY:V hlavě 2
DESCRIPTION:Udělejte místo na nové emoce!Vztek\, Strach a Nechuť\, kterým se už dlouho dařilo mít všechno pěkně pod kontrolou\, se ocitají na rozpacích\, když se jejich společnost rozroste o Úzkost\, Závist\, Nostalgii a Nudu.&nbsp\;Animovaný filmdabovánoDélka filmu:&nbsp\;96 minut
LOCATION:Zbýšov
END:VEVENT
END:VCALENDAR