BEGIN:VCALENDAR
VERSION:2.0
CALSCALE:GREGORIAN
PRODID:-//MyApp//Calendar 1.0//EN
BEGIN:VEVENT
METHOD:PUBLISH
UID:46505@regionalniportaly.cz
DTSTAMP:20260423T031309Z
DTSTART;VALUE=DATE:20241017
DTEND;VALUE=DATE:20241018
SUMMARY:Výjimečný stav
DESCRIPTION:Musíš za svou pravdou stát\, hlásá ústřední melodie komedie Jana Hřebejka. Podle scénáře novináře a jednoho z autorů Zeleného Raoula Milana Tesaře tak vznikl snímek o zahraničním reportérovi\, který kvůli své žárlivosti tajně opustí stanoviště na Blízkém východě\, aby následně z pražského bytu „vysílal“ nejaktuálnější zpravodajství z místa probíhající revoluce.V hlavních rolích snímku se objeví Ondřej Vetchý\, Tatiana Dyková a Jordan Haj.&nbsp\;délka: 111 minut
LOCATION:Zbýšov
END:VEVENT
END:VCALENDAR