BEGIN:VCALENDAR
VERSION:2.0
CALSCALE:GREGORIAN
PRODID:-//MyApp//Calendar 1.0//EN
BEGIN:VEVENT
METHOD:PUBLISH
UID:46504@regionalniportaly.cz
DTSTAMP:20260423T031152Z
DTSTART;VALUE=DATE:20241025
DTEND;VALUE=DATE:20241026
SUMMARY:Poklad
DESCRIPTION:Bohatství nebo nic…Jiří Langmajer\, Veronika Khek Kubařová a dávno ztracený bájný poklad v exotické Indonésii. To jsou tři hlavní hráči dobrodružné komedie o hledání bohatství. To může být potopené v truhle na dně moře\, zakopané v džungli na ostrově\, ale možná je jen zapomenuté hluboko v našich srdcích.&nbsp\;režie: Rudolf Havlíkdélka: 100 minut
LOCATION:Zbýšov
END:VEVENT
END:VCALENDAR