BEGIN:VCALENDAR
VERSION:2.0
CALSCALE:GREGORIAN
PRODID:-//MyApp//Calendar 1.0//EN
BEGIN:VEVENT
METHOD:PUBLISH
UID:46503@regionalniportaly.cz
DTSTAMP:20260423T031202Z
DTSTART;VALUE=DATE:20241025
DTEND;VALUE=DATE:20241026
SUMMARY:200% VLK
DESCRIPTION:Hrdinný vlkodlak Freddy Lupin se cítí připraven vést vlkodlačí smečku!Jen kdyby byl víc … vlčí.&nbsp\;žánr:&nbsp\;animované rodinné dobrodružstvídabovánodélka:&nbsp\;98 minut
LOCATION:Zbýšov
END:VEVENT
END:VCALENDAR